BEGIN:VCALENDAR
VERSION:2.0
PRODID:-//Sächsischer Jugendverband Entschieden für Christus - ECPv6.15.20//NONSGML v1.0//EN
CALSCALE:GREGORIAN
METHOD:PUBLISH
X-WR-CALNAME:Sächsischer Jugendverband Entschieden für Christus
X-ORIGINAL-URL:https://www.ec-sachsen.de
X-WR-CALDESC:Veranstaltungen für Sächsischer Jugendverband Entschieden für Christus
REFRESH-INTERVAL;VALUE=DURATION:PT1H
X-Robots-Tag:noindex
X-PUBLISHED-TTL:PT1H
BEGIN:VTIMEZONE
TZID:Europe/Berlin
BEGIN:DAYLIGHT
TZOFFSETFROM:+0100
TZOFFSETTO:+0200
TZNAME:CEST
DTSTART:20240331T010000
END:DAYLIGHT
BEGIN:STANDARD
TZOFFSETFROM:+0200
TZOFFSETTO:+0100
TZNAME:CET
DTSTART:20241027T010000
END:STANDARD
BEGIN:DAYLIGHT
TZOFFSETFROM:+0100
TZOFFSETTO:+0200
TZNAME:CEST
DTSTART:20250330T010000
END:DAYLIGHT
BEGIN:STANDARD
TZOFFSETFROM:+0200
TZOFFSETTO:+0100
TZNAME:CET
DTSTART:20251026T010000
END:STANDARD
BEGIN:DAYLIGHT
TZOFFSETFROM:+0100
TZOFFSETTO:+0200
TZNAME:CEST
DTSTART:20260329T010000
END:DAYLIGHT
BEGIN:STANDARD
TZOFFSETFROM:+0200
TZOFFSETTO:+0100
TZNAME:CET
DTSTART:20261025T010000
END:STANDARD
END:VTIMEZONE
BEGIN:VEVENT
DTSTART;TZID=Europe/Berlin:20250315T093000
DTEND;TZID=Europe/Berlin:20250315T093000
DTSTAMP:20260420T103809
CREATED:20250210T123953Z
LAST-MODIFIED:20250602T123503Z
UID:2035-1742031000-1742031000@www.ec-sachsen.de
SUMMARY:ec:volleyballturnier
DESCRIPTION:« Alle Veranstaltungen\n 				\n				\n				\n				\n					Diese Veranstaltung hat bereits stattgefunden. \n				\n				\n				\n				\n					\n	ec:volleyballturnier				\n				\n				\n				\n					\n		\n			15. März\n\n	\n\n	 \, \n\n\n09:30\n\n			\n				\n				\n				\n				\n					\n	\n				\n				\n				\n				\n							\n				\n					\n				\n				\n																	\n				\n					\n				\n				\n						\n					\n			\n						\n				\n					\n	« Alle Veranstaltungen\n 				\n				\n				\n				\n					Diese Veranstaltung hat bereits stattgefunden. \n				\n				\n				\n				\n					\n	ec:volleyballturnier				\n				\n				\n				\n					\n		\n			15. März\n\n	\n\n	 \, \n\n\n09:30\n\n			\n				\n				\n				\n				\n					\n	\n				\n				\n				\n						\n					\n			\n						\n				\n					\n	\n\n	Kategorien:	\n		EC-Veranstaltungen	\n\n				\n				\n					\n		\n				\n			\n						\n				\n					\n	\n	Sächsischer Jugendverband Entschieden für Christus\n	\n	\n					\n			0371-5610000			\n	 \n\n\n	Veranstalter-Website anzeigen \n\n\n	\n					\n			info@ec-sachsen.de			\n	 \n\n\n\n				\n				\n					\n		\n					\n		\n				\n						\n					\n			\n						\n				\n					\n				\n				\n	\n	Sporthalle Zschorlau\n	\n	\n\nSchulstraße 2C\n	\n		\n		Zschorlau\,\n\n\n	08321\n\n	Germany\n\n\n\n\n	Google Karte anzeigen \n\n\n	\n					\n						\n	 \n\n\n	\n	 \n\n\n\n	\n\n\n\n		\n	\n				\n				\n					\n		\n					\n		\n				\n						\n					\n			\n						\n				\n					\n	\n		\n\n	\n	Zum Kalender hinzufügen	\n		\n	\n\n		\n			\n									\n	Google Kalender\n\n									\n	iCalendar\n\n									\n	Outlook 365\n\n									\n	Outlook Live\n\n							\n		\n\n		\n	\n\n				\n				\n					\n		\n					\n		\n				\n						\n					\n			\n						\n				\n					\n	\n		\n\n				ec:foryou Region West	\n\n\n		\n	\n		MitarbeiterImpulsTag			\n\n	\n\n				\n				\n					\n		\n					\n		\n					\n		\n					\n		\n				\n						\n				\n				\n						\n					\n			\n						\n				\n					\n	\n\n	Kategorien:	\n		EC-Veranstaltungen	\n\n				\n				\n					\n		\n				\n			\n						\n				\n					\n	\n	Sächsischer Jugendverband Entschieden für Christus\n	\n	\n					\n			0371-5610000			\n	 \n\n\n	Veranstalter-Website anzeigen \n\n\n	\n					\n			info@ec-sachsen.de			\n	 \n\n\n\n				\n				\n					\n		\n					\n		\n				\n						\n					\n			\n						\n				\n					\n				\n				\n	\n	Sporthalle Zschorlau\n	\n	\n\nSchulstraße 2C\n	\n		\n		Zschorlau\,\n\n\n	08321\n\n	Germany\n\n\n\n\n	Google Karte anzeigen \n\n\n	\n					\n						\n	 \n\n\n	\n	 \n\n\n\n	\n\n\n\n		\n	\n				\n				\n					\n		\n					\n		\n				\n						\n					\n			\n						\n				\n					\n	\n		\n\n	\n	Zum Kalender hinzufügen	\n		\n	\n\n		\n			\n									\n	Google Kalender\n\n									\n	iCalendar\n\n									\n	Outlook 365\n\n									\n	Outlook Live\n\n							\n		\n\n		\n	\n\n				\n				\n					\n		\n					\n		\n				\n						\n					\n			\n						\n				\n					\n	\n		\n\n				ec:foryou Region West	\n\n\n		\n	\n		MitarbeiterImpulsTag
URL:https://www.ec-sachsen.de/event/ecvolleyballturnier/
LOCATION:Sporthalle Zschorlau\, Schulstraße 2C\, Zschorlau\, 08321\, Germany
CATEGORIES:EC-Veranstaltungen
ATTACH;FMTTYPE=image/webp:https://www.ec-sachsen.de/wp-content/uploads/2025/02/Flyer2025-Kopie-1-1-scaled.webp
ORGANIZER;CN="S%C3%A4chsischer Jugendverband Entschieden f%C3%BCr Christus":MAILTO:info@ec-sachsen.de
END:VEVENT
END:VCALENDAR