BEGIN:VCALENDAR
VERSION:2.0
PRODID:-//Sächsischer Jugendverband Entschieden für Christus - ECPv6.15.20//NONSGML v1.0//EN
CALSCALE:GREGORIAN
METHOD:PUBLISH
X-WR-CALNAME:Sächsischer Jugendverband Entschieden für Christus
X-ORIGINAL-URL:https://www.ec-sachsen.de
X-WR-CALDESC:Veranstaltungen für Sächsischer Jugendverband Entschieden für Christus
REFRESH-INTERVAL;VALUE=DURATION:PT1H
X-Robots-Tag:noindex
X-PUBLISHED-TTL:PT1H
BEGIN:VTIMEZONE
TZID:Europe/Berlin
BEGIN:DAYLIGHT
TZOFFSETFROM:+0100
TZOFFSETTO:+0200
TZNAME:CEST
DTSTART:20240331T010000
END:DAYLIGHT
BEGIN:STANDARD
TZOFFSETFROM:+0200
TZOFFSETTO:+0100
TZNAME:CET
DTSTART:20241027T010000
END:STANDARD
BEGIN:DAYLIGHT
TZOFFSETFROM:+0100
TZOFFSETTO:+0200
TZNAME:CEST
DTSTART:20250330T010000
END:DAYLIGHT
BEGIN:STANDARD
TZOFFSETFROM:+0200
TZOFFSETTO:+0100
TZNAME:CET
DTSTART:20251026T010000
END:STANDARD
BEGIN:DAYLIGHT
TZOFFSETFROM:+0100
TZOFFSETTO:+0200
TZNAME:CEST
DTSTART:20260329T010000
END:DAYLIGHT
BEGIN:STANDARD
TZOFFSETFROM:+0200
TZOFFSETTO:+0100
TZNAME:CET
DTSTART:20261025T010000
END:STANDARD
END:VTIMEZONE
BEGIN:VEVENT
DTSTART;TZID=Europe/Berlin:20250329T100000
DTEND;TZID=Europe/Berlin:20250329T100000
DTSTAMP:20260422T105258
CREATED:20250220T113121Z
LAST-MODIFIED:20250602T123416Z
UID:2062-1743242400-1743242400@www.ec-sachsen.de
SUMMARY:MitarbeiterImpulsTag
DESCRIPTION:
URL:https://www.ec-sachsen.de/event/mitarbeiterimpulstag/
LOCATION:LKG Chemnitz/Lutherplatz\, Hans-Sachs-Straße 37\, Chemnitz\, Sachsen\, 09126\, Germany
CATEGORIES:Bildungsangebote
ATTACH;FMTTYPE=image/webp:https://www.ec-sachsen.de/wp-content/uploads/2025/02/MIT25.webp
END:VEVENT
END:VCALENDAR