BEGIN:VCALENDAR
VERSION:2.0
PRODID:-//Sächsischer Jugendverband Entschieden für Christus - ECPv6.15.20//NONSGML v1.0//EN
CALSCALE:GREGORIAN
METHOD:PUBLISH
X-WR-CALNAME:Sächsischer Jugendverband Entschieden für Christus
X-ORIGINAL-URL:https://www.ec-sachsen.de
X-WR-CALDESC:Veranstaltungen für Sächsischer Jugendverband Entschieden für Christus
REFRESH-INTERVAL;VALUE=DURATION:PT1H
X-Robots-Tag:noindex
X-PUBLISHED-TTL:PT1H
BEGIN:VTIMEZONE
TZID:Europe/Berlin
BEGIN:DAYLIGHT
TZOFFSETFROM:+0100
TZOFFSETTO:+0200
TZNAME:CEST
DTSTART:20250330T010000
END:DAYLIGHT
BEGIN:STANDARD
TZOFFSETFROM:+0200
TZOFFSETTO:+0100
TZNAME:CET
DTSTART:20251026T010000
END:STANDARD
BEGIN:DAYLIGHT
TZOFFSETFROM:+0100
TZOFFSETTO:+0200
TZNAME:CEST
DTSTART:20260329T010000
END:DAYLIGHT
BEGIN:STANDARD
TZOFFSETFROM:+0200
TZOFFSETTO:+0100
TZNAME:CET
DTSTART:20261025T010000
END:STANDARD
BEGIN:DAYLIGHT
TZOFFSETFROM:+0100
TZOFFSETTO:+0200
TZNAME:CEST
DTSTART:20270328T010000
END:DAYLIGHT
BEGIN:STANDARD
TZOFFSETFROM:+0200
TZOFFSETTO:+0100
TZNAME:CET
DTSTART:20271031T010000
END:STANDARD
END:VTIMEZONE
BEGIN:VEVENT
DTSTART;TZID=Europe/Berlin:20260207T140000
DTEND;TZID=Europe/Berlin:20260207T220000
DTSTAMP:20260422T154622
CREATED:20250708T080243Z
LAST-MODIFIED:20260116T101558Z
UID:3768-1770472800-1770501600@www.ec-sachsen.de
SUMMARY:ec:aktiv
DESCRIPTION:Sei dabei! Weitere Infos sowie die Anmeldung findest du unter folgendem Link: https://www.ec-sachsen.de/service/anmeldung-ecaktiv-2/
URL:https://www.ec-sachsen.de/event/ecaktiv/
LOCATION:LKG Chemnitz/Lutherplatz\, Hans-Sachs-Straße 37\, Chemnitz\, Sachsen\, 09126\, Germany
CATEGORIES:Bildungsangebote,EC-Veranstaltungen
ATTACH;FMTTYPE=image/jpeg:https://www.ec-sachsen.de/wp-content/uploads/2026/01/ec-aktiv_2026_v3_final-breit-scaled.jpg
ORGANIZER;CN="S%C3%A4chsischer Jugendverband Entschieden f%C3%BCr Christus":MAILTO:info@ec-sachsen.de
END:VEVENT
BEGIN:VEVENT
DTSTART;VALUE=DATE:20260209
DTEND;VALUE=DATE:20260213
DTSTAMP:20260422T154622
CREATED:20251127T062409Z
LAST-MODIFIED:20251127T062409Z
UID:4167-1770595200-1770940799@www.ec-sachsen.de
SUMMARY:Juleica-Grundkurs in Jöhstadt
DESCRIPTION:Melde dich jetzt hier an!
URL:https://www.ec-sachsen.de/event/juleica-grundkurs-in-joehstadt/
LOCATION:Haus Bergfrieden\, Annaberger Str. 228\, Jöhstadt\, 09477\, Germany
CATEGORIES:Bildungsangebote
ATTACH;FMTTYPE=image/webp:https://www.ec-sachsen.de/wp-content/uploads/2025/02/hannah-busing-Zyx1bK9mqmA-unsplash-scaled.webp
ORGANIZER;CN="S%C3%A4chsischer Jugendverband Entschieden f%C3%BCr Christus":MAILTO:info@ec-sachsen.de
END:VEVENT
BEGIN:VEVENT
DTSTART;VALUE=DATE:20260216
DTEND;VALUE=DATE:20260330
DTSTAMP:20260422T154622
CREATED:20251118T083732Z
LAST-MODIFIED:20251118T085542Z
UID:4103-1771200000-1774828799@www.ec-sachsen.de
SUMMARY:truestory nights
DESCRIPTION:Mehr Infos unter: https://www.truestory.eu/
URL:https://www.ec-sachsen.de/event/truestory-nights/
CATEGORIES:EC-Veranstaltungen
ATTACH;FMTTYPE=image/png:https://www.ec-sachsen.de/wp-content/uploads/2025/11/truestory.png
END:VEVENT
BEGIN:VEVENT
DTSTART;TZID=Europe/Berlin:20260227T180000
DTEND;TZID=Europe/Berlin:20260227T210000
DTSTAMP:20260422T154622
CREATED:20251111T172047Z
LAST-MODIFIED:20251207T114609Z
UID:4086-1772215200-1772226000@www.ec-sachsen.de
SUMMARY:ec:foryou Region Ost
DESCRIPTION:
URL:https://www.ec-sachsen.de/event/ecforyou-region-ost/
LOCATION:LKG Bautzen\, Am Feldschlößchen 6\, Bautzen\, 02625
CATEGORIES:EC-Veranstaltungen
ATTACH;FMTTYPE=image/webp:https://www.ec-sachsen.de/wp-content/uploads/2025/11/papaioannou-kostas-tysecUm5HJA-unsplash-scaled.webp
ORGANIZER;CN="S%C3%A4chsischer Jugendverband Entschieden f%C3%BCr Christus":MAILTO:info@ec-sachsen.de
END:VEVENT
BEGIN:VEVENT
DTSTART;TZID=Europe/Berlin:20260228T090000
DTEND;TZID=Europe/Berlin:20260228T143000
DTSTAMP:20260422T154622
CREATED:20251127T062620Z
LAST-MODIFIED:20251127T062620Z
UID:4170-1772269200-1772289000@www.ec-sachsen.de
SUMMARY:Juleica-Aufbaukurs in Chemnitz
DESCRIPTION:Melde dich jetzt hier an!
URL:https://www.ec-sachsen.de/event/juleica-aufbaukurs-in-chemnitz/
LOCATION:LKG Chemnitz/Lutherplatz\, Hans-Sachs-Straße 37\, Chemnitz\, Sachsen\, 09126\, Germany
CATEGORIES:Bildungsangebote
ATTACH;FMTTYPE=image/webp:https://www.ec-sachsen.de/wp-content/uploads/2025/02/hannah-busing-Zyx1bK9mqmA-unsplash-scaled.webp
ORGANIZER;CN="S%C3%A4chsischer Jugendverband Entschieden f%C3%BCr Christus":MAILTO:info@ec-sachsen.de
END:VEVENT
END:VCALENDAR